BEGIN:VCALENDAR
VERSION:2.0
PRODID:-//ChamberMaster//Event Calendar 2.0//EN
METHOD:PUBLISH
X-PUBLISHED-TTL:P3D
REFRESH-INTERVAL:P3D
CALSCALE:GREGORIAN
BEGIN:VEVENT
DTSTART:20260505T164500Z
DTEND:20260505T171500Z
X-MICROSOFT-CDO-ALLDAYEVENT:FALSE
SUMMARY:Ribbon Cutting - Texas ProBuild Contractors\, LLC
DESCRIPTION:Join us for the ribbon cutting ceremony at the Chamber office for Texas Pro Build Contractors LLC! This event is a wonderful opportunity to support a local business and network within the community.
X-ALT-DESC;FMTTYPE=text/html:<span style="font-size:20px\;"><span style="font-family:arial\;"><strong>Join us for the ribbon cutting ceremony at the Chamber office for Texas Pro Build Contractors LLC! This event is a wonderful opportunity to support a local business and network within the community.</strong></span></span>
LOCATION:Texas ProBuild Contractors LLC 401 Cozby St N (Chamber office behind 3 Parrots) Benbrook\, TX 76132
UID:e.1398.11138
SEQUENCE:3
DTSTAMP:20260421T233858Z
URL:https://business.benbrookchamber.org/events/details/ribbon-cutting-texas-probuild-contractors-llc-11138
END:VEVENT

END:VCALENDAR
