BEGIN:VCALENDAR
VERSION:2.0
PRODID:-//ChamberMaster//Event Calendar 2.0//EN
METHOD:PUBLISH
X-PUBLISHED-TTL:P3D
REFRESH-INTERVAL:P3D
CALSCALE:GREGORIAN
BEGIN:VEVENT
DTSTART:20260512T164500Z
DTEND:20260512T171500Z
X-MICROSOFT-CDO-ALLDAYEVENT:FALSE
SUMMARY:Ribbon Cutting - Christian Bros Automotive
DESCRIPTION:Join us for the ribbon cutting ceremony at Christian Brothers Automotive! This event is a wonderful opportunity to support a local business and network within the community.
X-ALT-DESC;FMTTYPE=text/html:<span style="font-size:20px\;"><span style="font-family:arial\;"><strong>Join us for the ribbon cutting ceremony at Christian Brothers Automotive! This event is a wonderful opportunity to support a local business and network within the community.</strong></span></span>
LOCATION:Christian Brothers Automotive 7333 Oakmont Blvd Fort Worth\, TX 76132
UID:e.1398.11127
SEQUENCE:3
DTSTAMP:20260420T103019Z
URL:https://business.benbrookchamber.org/events/details/ribbon-cutting-christian-bros-automotive-11127
END:VEVENT

END:VCALENDAR
