BEGIN:VCALENDAR
VERSION:2.0
PRODID:-//ChamberMaster//Event Calendar 2.0//EN
METHOD:PUBLISH
X-PUBLISHED-TTL:P3D
REFRESH-INTERVAL:P3D
CALSCALE:GREGORIAN
BEGIN:VEVENT
DTSTART;VALUE=DATE:20260503
DTEND;VALUE=DATE:20260504
TRANSP:TRANSPARENT
X-MICROSOFT-CDO-ALLDAYEVENT:TRUE
SUMMARY:Lemonade Day Benbrook Area 2026
DESCRIPTION:Calling All Young Entrepreneurs in Benbrook!  \n\nLemonade Day Benbrook Area is back for 2026   and registration is now OPEN!\n\nThis FREE program teaches kids how to start\, own\, and operate their very own lemonade stand.\n\nThey'll learn:\n\n  Business skills\n\n  Responsibility\n\n  Financial literacy\n\n  Goal setting\n\n  Teamwork\n\nThis isn't just about selling lemonade.\n\nIt's about building confidence\, leadership\, and entrepreneurial mindset   one cup at a time.\n\n  Event Day: May 3\, 2026\n\n  Citywide across Benbrook\n\n  FREE to participate\n\nParents   this is your chance to give your child a real-world business experience they'll never forget.\n\n  Register today:\n\nLEMONADEDAY.ORG/BENBROOK-AREA
X-ALT-DESC;FMTTYPE=text/html:<p data-end="583" data-start="527">&#127819\; <strong data-end="578" data-start="530">Calling All Young Entrepreneurs in Benbrook!</strong> &#127819\;</p>\n\n<p data-end="660" data-start="585">Lemonade Day Benbrook Area is back for 2026 &mdash\; and registration is now OPEN!</p>\n\n<p data-end="754" data-start="662">This FREE program teaches kids how to start\, own\, and operate their very own lemonade stand.</p>\n\n<p data-end="862" data-start="756">They&rsquo\;ll learn:<br />\n&#10004\; Business skills<br data-end="791" data-start="788" />\n&#10004\; Responsibility<br data-end="810" data-start="807" />\n&#10004\; Financial literacy<br data-end="833" data-start="830" />\n&#10004\; Goal setting<br data-end="850" data-start="847" />\n&#10004\; Teamwork</p>\n\n<p data-end="998" data-start="864">This isn&rsquo\;t just about selling lemonade.<br data-end="906" data-start="903" />\nIt&rsquo\;s about building confidence\, leadership\, and entrepreneurial mindset &mdash\; one cup at a time.</p>\n\n<p data-end="1082" data-start="1000">&#128197\; Event Day: May 3\, 2026<br data-end="1028" data-start="1025" />\n&#128205\; Citywide across Benbrook<br data-end="1058" data-start="1055" />\n&#128155\; FREE to participate</p>\n\n<p data-end="1187" data-start="1084">Parents &mdash\; this is your chance to give your child a real-world business experience they&rsquo\;ll never forget.</p>\n\n<p data-end="1241" data-start="1189">&#128073\; Register today:<br data-end="1210" data-start="1207" />\nLEMONADEDAY.ORG/BENBROOK-AREA</p>\n
LOCATION:
UID:e.1398.11139
SEQUENCE:3
DTSTAMP:20260421T234219Z
URL:https://business.benbrookchamber.org/events/details/lemonade-day-benbrook-area-2026-11139
END:VEVENT

END:VCALENDAR
