BEGIN:VCALENDAR
VERSION:2.0
PRODID:-//ChamberMaster//Event Calendar 2.0//EN
METHOD:PUBLISH
X-PUBLISHED-TTL:P3D
REFRESH-INTERVAL:P3D
CALSCALE:GREGORIAN
BEGIN:VEVENT
DTSTART:20190611T163000Z
DTEND:20190611T180000Z
X-MICROSOFT-CDO-ALLDAYEVENT:FALSE
SUMMARY:Leads 1
DESCRIPTION:Leads Group 1 works to grow member businesses through leads and referrals in a positive and cooperative manner\, meeting once a month.
X-ALT-DESC;FMTTYPE=text/html:Leads Group 1 works to grow member businesses through leads and referrals in a positive and cooperative manner\, meeting once a month.
LOCATION:Pulido's 5051 Benbrook Blvd. ft. worth 76116
UID:e.1398.4682
SEQUENCE:3
DTSTAMP:20260424T135747Z
URL:https://business.benbrookchamber.org/events/details/leads-1-06-11-2019-4682
END:VEVENT

END:VCALENDAR
