BEGIN:VCALENDAR
VERSION:2.0
PRODID:-//ChamberMaster//Event Calendar 2.0//EN
METHOD:PUBLISH
X-PUBLISHED-TTL:P3D
REFRESH-INTERVAL:P3D
CALSCALE:GREGORIAN
BEGIN:VEVENT
DTSTART:20221202T010000Z
DTEND:20221202T020000Z
X-MICROSOFT-CDO-ALLDAYEVENT:FALSE
SUMMARY:City Council Meeting
DESCRIPTION:City of Benbrook Regular Council Meeting\n\n*Agenda posted on City Page the Friday prior to meeting date
X-ALT-DESC;FMTTYPE=text/html:City of Benbrook Regular Council Meeting<br />\n*Agenda posted on <a href="http://www.cityofbenbrook.com/content/60/default.aspx">City Page</a> the Friday prior to meeting date
LOCATION:City Hall 911 Winscott Road Benbrook\, TX 76126
UID:e.1398.972
SEQUENCE:3
DTSTAMP:20260420T030254Z
URL:https://business.benbrookchamber.org/events/details/city-council-meeting-12-01-2022-972
END:VEVENT

END:VCALENDAR
